BEGIN:VCALENDAR
VERSION:2.0
PRODID:-//Christchurch Pride - ECPv4.6.9//NONSGML v1.0//EN
CALSCALE:GREGORIAN
METHOD:PUBLISH
X-WR-CALNAME:Christchurch Pride
X-ORIGINAL-URL:http://chchpride.co.nz
X-WR-CALDESC:Events for Christchurch Pride
BEGIN:VEVENT
DTSTART;TZID=UTC+13:20171201T210000
DTEND;TZID=UTC+13:20171202T020000
DTSTAMP:20180122T000200
CREATED:20171106T042146Z
LAST-MODIFIED:20171106T042359Z
UID:465-1512162000-1512180000@chchpride.co.nz
SUMMARY:Ending “HIV World AIDS Day” Party
DESCRIPTION:Christchurch Pride are proud to be supporting World AIDS Day by bringing you from Auckland the gorgeous DJ Jordan Eskra to help us dance the night away! \nJoin us at the always stunning Sixty6 on Peterborough with Drag shows\, photobooths and the awesome Ending HIV team and volunteers! \nThis party will be after the Gay Bingo Fundraiser that will be happening from 7pm so for a real night of it why not come along to both! \nEntry to the party is just $20 (cash/eftpos) with all money raised going to World AIDS Day. \nThis is an R18 event. \nWe can’t wait to see you there!\nChristchurch Pride xxx \nEnding “HIV World AIDS Day” Party
URL:http://chchpride.co.nz/events/ending-hiv-world-aids-day-party/
LOCATION:Corner Peterborough Street & Durham Street North\, Christchurch\, New Zealand
CATEGORIES:Fundraiser
ATTACH;FMTTYPE=image/jpeg:http://chchpride.co.nz/wp-content/uploads/2017/11/23117086_1971210573093309_1665834630212890163_o.jpg
ORGANIZER;CN="Christchurch%20Pride":MAILTO:contact@chchpride.co.nz
END:VEVENT
END:VCALENDAR